{
 "currentVersion": 10.91,
 "serviceDescription": "Wildlife/WAP_ProtectCOA",
 "name": "Wildlife/WAP_ProtectCOA",
 "description": "",
 "extent": {
  "xmin": 222660.557499997,
  "ymin": 165817.26110000198,
  "xmax": 384990.55749999697,
  "ymax": 287817.261100002,
  "spatialReference": {
   "wkid": 103015,
   "latestWkid": 6433
  }
 },
 "initialExtent": {
  "xmin": 222660.557499997,
  "ymin": 165817.26110000198,
  "xmax": 384990.55749999697,
  "ymax": 287817.261100002,
  "spatialReference": {
   "wkid": 103015,
   "latestWkid": 6433
  }
 },
 "fullExtent": {
  "xmin": 222660.557499997,
  "ymin": 165817.26110000198,
  "xmax": 384990.55749999697,
  "ymax": 287817.261100002,
  "spatialReference": {
   "wkid": 103015,
   "latestWkid": 6433
  }
 },
 "hasMultidimensions": false,
 "pixelSizeX": 9.999999999999998,
 "pixelSizeY": 10,
 "datasetFormat": "TIFF",
 "uncompressedSize": 198042600,
 "blockWidth": 128,
 "blockHeight": 128,
 "compressionType": "LZW",
 "bandNames": [
  "Band_1"
 ],
 "allowCopy": true,
 "allowAnalysis": true,
 "bandCount": 1,
 "noDataValue": 3,
 "noDataValues": [
  3
 ],
 "pixelType": "U8",
 "minPixelSize": 0,
 "maxPixelSize": 0,
 "copyrightText": "",
 "serviceDataType": "esriImageServiceDataTypeGeneric",
 "serviceSourceType": "esriImageServiceSourceTypeDataset",
 "minValues": [
  1
 ],
 "maxValues": [
  1
 ],
 "meanValues": [
  1
 ],
 "stdvValues": [
  0
 ],
 "objectIdField": "",
 "fields": [],
 "capabilities": "Image,Metadata,Mensuration",
 "defaultMosaicMethod": "Center",
 "allowedMosaicMethods": "",
 "sortField": "",
 "sortValue": null,
 "sortAscending": true,
 "mosaicOperator": "First",
 "defaultCompressionQuality": 75,
 "defaultResamplingMethod": "Bilinear",
 "maxImageHeight": 4100,
 "maxImageWidth": 15000,
 "allowRasterFunction": true,
 "rasterFunctionInfos": [
  {
   "name": "None",
   "description": "",
   "help": ""
  }
 ],
 "rasterTypeInfos": [
  {
   "name": "Raster Dataset",
   "description": "Supports all ArcGIS Raster Datasets",
   "help": ""
  }
 ],
 "mensurationCapabilities": "Basic",
 "hasHistograms": false,
 "hasColormap": false,
 "hasRasterAttributeTable": false,
 "minScale": 0,
 "maxScale": 0,
 "exportTilesAllowed": false,
 "supportsStatistics": false,
 "supportsAdvancedQueries": false,
 "editFieldsInfo": null,
 "ownershipBasedAccessControlForRasters": null,
 "allowComputeTiePoints": false,
 "useStandardizedQueries": true,
 "advancedQueryCapabilities": {
  "useStandardizedQueries": true,
  "supportsStatistics": false,
  "supportsOrderBy": false,
  "supportsDistinct": false,
  "supportsPagination": false
 },
 "spatialReference": {
  "wkid": 103015,
  "latestWkid": 6433
 }
}
