View In:
ArcGIS JavaScript
ArcGIS Online Map Viewer
ArcGIS Earth
ArcMap
View Footprint In:
ArcGIS Online Map Viewer
Service Description: The 1934 aerial photos were captured by Fairchild Aerial Survey for the entire state of Connecticut. The originals are at the CT State Library. The scanning, georeferencing and mosaicking was done by the Map and Geographic Information Center (MAGIC) at the University of Connecticut. More info:
https://cslib.contentdm.oclc.org/digital/collection/p4005coll10/id/93/ http://magic.lib.uconn.edu/mash_up/1934.html
Name: images/Mosaic_1934_MAGIC
Description: The 1934 aerial photos were captured by Fairchild Aerial Survey for the entire state of Connecticut. The originals are at the CT State Library. The scanning, georeferencing and mosaicking was done by the Map and Geographic Information Center (MAGIC) at the University of Connecticut. More info:
https://cslib.contentdm.oclc.org/digital/collection/p4005coll10/id/93/ http://magic.lib.uconn.edu/mash_up/1934.html
Single Fused Map Cache: false
Extent:
XMin: -8210302.1559999995
YMin: 5001905.371260093
XMax: -7984691.060658772
YMax: 5170019.760199999
Spatial Reference: 102100
(3857)
Initial Extent:
XMin: -8210302.1559999995
YMin: 5001905.371260093
XMax: -7984691.060658772
YMax: 5170019.760199999
Spatial Reference: 102100
(3857)
Full Extent:
XMin: -8210302.1559999995
YMin: 5001905.371260093
XMax: -7984691.060658772
YMax: 5170019.760199999
Spatial Reference: 102100
(3857)
Pixel Size X: 0.8847008216851936
Pixel Size Y: 0.8847008216851916
Band Count: 1
Pixel Type: U8
RasterFunction Infos: {"rasterFunctionInfos": [{
"name": "None",
"description": "A No-Op Function.",
"help": ""
}]}
Mensuration Capabilities: None
Has Histograms: true
Has Colormap: false
Has Multi Dimensions : false
Rendering Rule:
Min Scale: 0
Max Scale: 0
Copyright Text: UConn MAGIC
Service Data Type: esriImageServiceDataTypeGeneric
Min Values: 0
Max Values: 255
Mean Values: 159.97101787433027
Standard Deviation Values: 72.65440690416507
Object ID Field: OBJECTID
Fields:
-
OBJECTID
(
type: esriFieldTypeOID, alias: OBJECTID
)
-
Shape
(
type: esriFieldTypeGeometry, alias: Shape
)
-
Name
(
type: esriFieldTypeString, alias: Name, length: 200
)
-
MinPS
(
type: esriFieldTypeDouble, alias: MinPS
)
-
MaxPS
(
type: esriFieldTypeDouble, alias: MaxPS
)
-
LowPS
(
type: esriFieldTypeDouble, alias: LowPS
)
-
HighPS
(
type: esriFieldTypeDouble, alias: HighPS
)
-
Category
(
type: esriFieldTypeInteger, alias: Category
, Coded Values:
[0: Unknown]
, [1: Primary]
, [2: Overview]
, ...6 more...
)
-
Tag
(
type: esriFieldTypeString, alias: Tag, length: 100
)
-
GroupName
(
type: esriFieldTypeString, alias: GroupName, length: 100
)
-
ProductName
(
type: esriFieldTypeString, alias: ProductName, length: 100
)
-
CenterX
(
type: esriFieldTypeDouble, alias: CenterX
)
-
CenterY
(
type: esriFieldTypeDouble, alias: CenterY
)
-
ZOrder
(
type: esriFieldTypeInteger, alias: ZOrder
)
-
Shape_Length
(
type: esriFieldTypeDouble, alias: Shape_Length
)
-
Shape_Area
(
type: esriFieldTypeDouble, alias: Shape_Area
)
Default Mosaic Method: Northwest
Allowed Mosaic Methods: NorthWest,Center,LockRaster,ByAttribute,Nadir,Viewpoint,Seamline,None
SortField:
SortValue: null
Mosaic Operator: First
Default Compression Quality: 75
Default Resampling Method: Bilinear
Max Record Count: 1000
Max Image Height: 4100
Max Image Width: 15000
Max Download Image Count: 20
Max Mosaic Image Count: 20
Allow Raster Function: true
Allow Copy: true
Allow Analysis: true
Allow Compute TiePoints: false
Supports Statistics: true
Supports Advanced Queries: true
Use StandardizedQueries: true
Raster Type Infos:
Name: Raster Dataset
Description: Supports all ArcGIS Raster Datasets
Help:
Has Raster Attribute Table: false
Edit Fields Info: null
Ownership Based AccessControl For Rasters: null
Child Resources:
Info
Histograms
Statistics
Key Properties
Legend
Raster Function Infos
Supported Operations:
Export Image
Query
Identify
Compute Histograms
Compute Statistics Histograms
Get Samples
Compute Class Statistics
Query Boundary
Compute Pixel Location
Compute Angles
Validate
Project