View In:
ArcGIS JavaScript
ArcGIS Online Map Viewer
ArcGIS Earth
ArcMap
View Footprint In:
ArcGIS Online Map Viewer
Service Description: marshes/Aerial_5band
Name: marshes/Aerial_5band
Description:
Single Fused Map Cache: false
Extent:
XMin: -8143175.866900001
YMin: 5035960.577127943
XMax: -7999748.296282791
YMax: 5062690.639100001
Spatial Reference: 102100
(3857)
Initial Extent:
XMin: -8143175.866900001
YMin: 5035960.577127943
XMax: -7999748.296282791
YMax: 5062690.639100001
Spatial Reference: 102100
(3857)
Full Extent:
XMin: -8143175.866900001
YMin: 5035960.577127943
XMax: -7999748.296282791
YMax: 5062690.639100001
Spatial Reference: 102100
(3857)
Pixel Size X: 0.029053594107185964
Pixel Size Y: 0.02905359410718651
Band Count: 5
Pixel Type: F32
RasterFunction Infos: {"rasterFunctionInfos": [
{
"name": "None",
"description": "A No-Op Function.",
"help": ""
},
{
"name": "NDVI_14",
"description": "A raster function template.",
"help": ""
},
{
"name": "RTVICore_452",
"description": "RTVICore Index",
"help": ""
}
]}
Mensuration Capabilities: None
Has Histograms: true
Has Colormap: false
Has Multi Dimensions : false
Rendering Rule:
Min Scale: 0
Max Scale: 0
Copyright Text:
Service Data Type: esriImageServiceDataTypeGeneric
Min Values: 0.010737050324678421, 0.022518141195178032, 0.017932754009962082, 0.0426032580435276, 0.030371256172657013
Max Values: 0.07359675318002701, 0.0967954471707344, 0.0488688200712204, 0.3422226905822754, 0.33121123909950256
Mean Values: 0.03276105314300281, 0.04525354018127457, 0.028607966926877174, 0.1696573179878269, 0.10198643066977606
Standard Deviation Values: 0.013013846654454923, 0.014345791838737118, 0.006954185232479598, 0.06483032546189488, 0.04898469063884717
Object ID Field: OBJECTID
Fields:
-
OBJECTID
(
type: esriFieldTypeOID, alias: OBJECTID
)
-
Shape
(
type: esriFieldTypeGeometry, alias: Shape
)
-
Name
(
type: esriFieldTypeString, alias: Name, length: 200
)
-
MinPS
(
type: esriFieldTypeDouble, alias: MinPS
)
-
MaxPS
(
type: esriFieldTypeDouble, alias: MaxPS
)
-
LowPS
(
type: esriFieldTypeDouble, alias: LowPS
)
-
HighPS
(
type: esriFieldTypeDouble, alias: HighPS
)
-
Category
(
type: esriFieldTypeInteger, alias: Category
, Coded Values:
[0: Unknown]
, [1: Primary]
, [2: Overview]
, ...6 more...
)
-
Tag
(
type: esriFieldTypeString, alias: Tag, length: 100
)
-
GroupName
(
type: esriFieldTypeString, alias: GroupName, length: 100
)
-
ProductName
(
type: esriFieldTypeString, alias: ProductName, length: 100
)
-
CenterX
(
type: esriFieldTypeDouble, alias: CenterX
)
-
CenterY
(
type: esriFieldTypeDouble, alias: CenterY
)
-
ZOrder
(
type: esriFieldTypeInteger, alias: ZOrder
)
-
Shape_Length
(
type: esriFieldTypeDouble, alias: Shape_Length
)
-
Shape_Area
(
type: esriFieldTypeDouble, alias: Shape_Area
)
Default Mosaic Method: Northwest
Allowed Mosaic Methods: NorthWest,Center,LockRaster,ByAttribute,Nadir,Viewpoint,Seamline,None
SortField:
SortValue: null
Mosaic Operator: First
Default Compression Quality: 75
Default Resampling Method: Bilinear
Max Record Count: 1000
Max Image Height: 4100
Max Image Width: 15000
Max Download Image Count: 20
Max Mosaic Image Count: 20
Allow Raster Function: true
Allow Copy: true
Allow Analysis: true
Allow Compute TiePoints: false
Supports Statistics: true
Supports Advanced Queries: true
Use StandardizedQueries: true
Raster Type Infos:
Name: Raster Dataset
Description: Supports all ArcGIS Raster Datasets
Help:
Has Raster Attribute Table: false
Edit Fields Info: null
Ownership Based AccessControl For Rasters: null
Child Resources:
Info
Histograms
Statistics
Key Properties
Legend
Raster Function Infos
Supported Operations:
Export Image
Query
Identify
Compute Histograms
Compute Statistics Histograms
Get Samples
Compute Class Statistics
Query Boundary
Compute Pixel Location
Compute Angles
Validate
Project