View In:
ArcGIS JavaScript
ArcGIS Online Map Viewer
ArcGIS Earth
Service Description: Elevation from 2 foot DEM derived from 2023 Connecticut statewide lidar collection. Visit https://maps.cteco.uconn.edu/data/flight2023/ for more information.
Name: elevation/Elevation
Description: Elevation from 2 foot DEM derived from 2023 Connecticut statewide lidar collection. Visit https://maps.cteco.uconn.edu/data/flight2023/ for more information.
Single Fused Map Cache: false
Extent:
XMin: -8208572.6952
YMin: 5008472.305471124
XMax: -7990329.972314625
YMax: 5169936.770800002
Spatial Reference: 102100
(3857)
LatestVCSWkid(0)
Initial Extent:
XMin: -8208572.6952
YMin: 5008472.305471124
XMax: -7990329.972314625
YMax: 5169936.770800002
Spatial Reference: 102100
(3857)
LatestVCSWkid(0)
Full Extent:
XMin: -8208572.6952
YMin: 5008472.305471124
XMax: -7990329.972314625
YMax: 5169936.770800002
Spatial Reference: 102100
(3857)
LatestVCSWkid(0)
Pixel Size X: 0.6096012192022405
Pixel Size Y: 0.6096012192022389
Band Count: 1
Pixel Type: F32
RasterFunction Infos: {"rasterFunctionInfos": [
{
"name": "None",
"description": "Make a Raster or Raster Dataset into a Function Raster Dataset.",
"help": ""
},
{
"name": "Hillshade E 90",
"description": "Applies the traditional hillshade function with azimuth of 90, altitude of 45, z factor of 2. ",
"help": ""
},
{
"name": "Aspect",
"description": "Shows which direction a pixel is facing, where 0 is due north and angles increase clockwise to 360.",
"help": ""
},
{
"name": "Hillshade multidirectional",
"description": "Hillshade with multidirectional type. Z factor of 2. ",
"help": ""
},
{
"name": "Hillshade NE 45",
"description": "Applies the traditional hillshade function with azimuth of 45, altitude of 45, z factor of 2. ",
"help": ""
},
{
"name": "Hillshade SE 135",
"description": "Applies the traditional hillshade function with azimuth of 135, altitude of 45, z factor of 2. ",
"help": ""
},
{
"name": "Hillshade traditional",
"description": "Applies the traditional hillshade function with azimuth of 315, altitude of 45, z factor of 2. ",
"help": ""
},
{
"name": "Shaded relief",
"description": "Shaded relief with an azimuth of 315, altitude of 45 and Z factor of 2. ",
"help": ""
},
{
"name": "Slope",
"description": "Slope in degree (32 bit float) and then a min-max stretch from 0-90.",
"help": ""
},
{
"name": "Slope",
"description": "Slope in degree (32 bit float) and then a min-max stretch from 0-90.",
"help": ""
},
{
"name": "Aspect",
"description": "Shows which direction a pixel is facing, where 0 is due north and angles increase clockwise to 360.",
"help": ""
},
{
"name": "Shaded relief",
"description": "Shaded relief with an azimuth of 315, altitude of 45 and Z factor of 2. ",
"help": ""
},
{
"name": "Hillshade multidirectional",
"description": "Hillshade with multidirectional type. Z factor of 2. ",
"help": ""
},
{
"name": "Hillshade traditional",
"description": "Applies the traditional hillshade function with azimuth of 315, altitude of 45, z factor of 2. ",
"help": ""
},
{
"name": "Hillshade E 90",
"description": "Applies the traditional hillshade function with azimuth of 90, altitude of 45, z factor of 2. ",
"help": ""
},
{
"name": "Hillshade NE 45",
"description": "Applies the traditional hillshade function with azimuth of 45, altitude of 45, z factor of 2. ",
"help": ""
},
{
"name": "Hillshade SE 135",
"description": "Applies the traditional hillshade function with azimuth of 135, altitude of 45, z factor of 2. ",
"help": ""
}
]}
Mensuration Capabilities: None
Inspection Capabilities:
Has Histograms: true
Has Colormap: false
Has Multi Dimensions : false
Rendering Rule:
Min Scale: 0
Max Scale: 0
Resampling: false
Copyright Text:
Service Data Type: esriImageServiceDataTypeGeneric
Min Values: -46.90715789794922
Max Values: 2451.902099609375
Mean Values: 451.94990100364896
Standard Deviation Values: 342.4300371186861
Object ID Field: OBJECTID
Fields:
-
OBJECTID
(
type: esriFieldTypeOID, alias: OBJECTID
)
-
Shape
(
type: esriFieldTypeGeometry, alias: Shape
)
-
Name
(
type: esriFieldTypeString, alias: Name, length: 200
)
-
MinPS
(
type: esriFieldTypeDouble, alias: MinPS
)
-
MaxPS
(
type: esriFieldTypeDouble, alias: MaxPS
)
-
LowPS
(
type: esriFieldTypeDouble, alias: LowPS
)
-
HighPS
(
type: esriFieldTypeDouble, alias: HighPS
)
-
Category
(
type: esriFieldTypeInteger, alias: Category
, Coded Values:
[0: Unknown]
, [1: Primary]
, [2: Overview]
, ...6 more...
)
-
Tag
(
type: esriFieldTypeString, alias: Tag, length: 100
)
-
GroupName
(
type: esriFieldTypeString, alias: GroupName, length: 100
)
-
ProductName
(
type: esriFieldTypeString, alias: ProductName, length: 100
)
-
CenterX
(
type: esriFieldTypeDouble, alias: CenterX
)
-
CenterY
(
type: esriFieldTypeDouble, alias: CenterY
)
-
ZOrder
(
type: esriFieldTypeInteger, alias: ZOrder
)
-
Shape_Length
(
type: esriFieldTypeDouble, alias: Shape_Length
)
-
Shape_Area
(
type: esriFieldTypeDouble, alias: Shape_Area
)
Default Mosaic Method: Northwest
Allowed Mosaic Methods: NorthWest,Center,LockRaster,ByAttribute,Nadir,Viewpoint,Seamline,None
SortField:
SortValue: null
Mosaic Operator: First
Default Compression Quality: 75
Default Resampling Method: Nearest
Max Record Count: 1000
Max Image Height: 4100
Max Image Width: 15000
Max Download Image Count: 0
Max Mosaic Image Count: 42
Allow Raster Function: true
Allow Copy: true
Allow Analysis: true
Allow Compute TiePoints: false
Supports Statistics: true
Supports Advanced Queries: true
Use StandardizedQueries: true
Raster Type Infos:
Name: Raster Dataset
Description: Supports all ArcGIS Raster Datasets
Help:
Has Raster Attribute Table: false
Edit Fields Info: null
Ownership Based AccessControl For Rasters: null
Child Resources:
Info
Histograms
Statistics
Key Properties
Legend
Raster Function Infos
Supported Operations:
Export Image
Query
Identify
Measure
Compute Histograms
Compute Statistics Histograms
Get Samples
Compute Class Statistics
Query GPS Info
Find Images
Image to Map
Map to Image
Measure from Image
Image to Map Multiray
Query Boundary
Compute Pixel Location
Compute Angles
Validate
Project